BEGIN:VCALENDAR
VERSION:2.0
PRODID:-//ChamberMaster//Event Calendar 2.0//EN
METHOD:PUBLISH
X-PUBLISHED-TTL:P3D
REFRESH-INTERVAL:P3D
CALSCALE:GREGORIAN
BEGIN:VEVENT
DTSTART:20190319T013000Z
DTEND:20190319T033000Z
X-MICROSOFT-CDO-ALLDAYEVENT:FALSE
SUMMARY:YOUR ARE INVITED To
DESCRIPTION:REMINDER!!!!!!! TONIGHT AT 6:30PM\n\nDO NOT MISS THIS MEETING!!!!\n\nGranada Hills South Neighborhood Council\n\nJoint Outreach Committee\, Both General Boards\, Granada Hills North Neighborhood Council Outreach Committee\, Granada Hills Chamber of Commerce and Granada Hills Rotary Club\, Granada Hills Woman's Club
X-ALT-DESC;FMTTYPE=text/html:<div align="center" style="color: rgb(64\, 63\, 66)\; font-family: Arial\, Verdana\, Helvetica\, sans-serif\; font-size: 12px\; background-color: rgb(255\, 255\, 255)\; text-align: center\;"><span style="font-size:16px\;"><span style="font-family: &quot\;Arial Black&quot\;\, Gadget\, sans-serif\; color: rgb(0\, 0\, 0)\;">REMINDER!!!!!!! TONIGHT AT 6:30PM</span></span></div>\n\n<div align="center" style="color: rgb(64\, 63\, 66)\; font-family: Arial\, Verdana\, Helvetica\, sans-serif\; font-size: 12px\; background-color: rgb(255\, 255\, 255)\; text-align: center\;"><span style="color: rgb(255\, 0\, 0)\; font-style: italic\; font-weight: bold\; font-size: 16px\;">DO NOT MISS THIS MEETING!!!!</span></div>\n\n<div align="center" style="color: rgb(64\, 63\, 66)\; font-family: Arial\, Verdana\, Helvetica\, sans-serif\; font-size: 12px\; background-color: rgb(255\, 255\, 255)\; text-align: center\;"><span style="font-size:16px\;"><span style="font-family: &quot\;Arial Black&quot\;\, Gadget\, sans-serif\;">Granada Hills South Neighborhood Council</span></span></div>\n\n<div align="center" style="color: rgb(64\, 63\, 66)\; font-family: Arial\, Verdana\, Helvetica\, sans-serif\; font-size: 12px\; background-color: rgb(255\, 255\, 255)\; text-align: center\;"><span style="font-size:16px\;"><span style="font-family: &quot\;Arial Black&quot\;\, Gadget\, sans-serif\;">Joint Outreach Committee\, Both General Boards\, Granada Hills North Neighborhood Council Outreach Committee\, Granada Hills Chamber of Commerce and Granada Hills Rotary Club\, Granada Hills Woman&#39\;s Club</span></span></div>\n\n<div align="center" style="color: rgb(64\, 63\, 66)\; font-family: Arial\, Verdana\, Helvetica\, sans-serif\; font-size: 12px\; background-color: rgb(255\, 255\, 255)\; text-align: center\;">&nbsp\;</div>\n\n<div align="center" style="color: rgb(64\, 63\, 66)\; font-family: Arial\, Verdana\, Helvetica\, sans-serif\; font-size: 12px\; background-color: rgb(255\, 255\, 255)\; text-align: center\;">&nbsp\;</div>\n
LOCATION:Meeting Location: Granada Hills Chamber of Commerce 17723 Chatsworth Street Granada Hills\, CA 91344
UID:e.3286.4150
SEQUENCE:3
DTSTAMP:20260421T211312Z
URL:https://members.granadachamber.com/events/details/your-are-invited-to-4150
END:VEVENT

END:VCALENDAR
