BEGIN:VCALENDAR
VERSION:2.0
PRODID:-//ChamberMaster//Event Calendar 2.0//EN
METHOD:PUBLISH
X-PUBLISHED-TTL:P3D
REFRESH-INTERVAL:P3D
CALSCALE:GREGORIAN
BEGIN:VEVENT
DTSTART:20180808T160000Z
DTEND:20180808T190000Z
X-MICROSOFT-CDO-ALLDAYEVENT:FALSE
SUMMARY:Workshop Addressing Earthquake Risks for Small Business
DESCRIPTION:Invitation to a BizFed hosting an important workshope!\n\nWorkshop to address Risks of Earthquakes to Small Business Economy
X-ALT-DESC;FMTTYPE=text/html:<strong>Invitation to a BizFed hosting an important workshope!<br />\n<span style="color:#FF0000\;"><em><span style="font-size:14px\;">Workshop to address Risks of Earthquakes to Small Business Economy</span></em></span></strong><br />\n<br />\n&nbsp\;
LOCATION:CSUN\, Delmar T Oviatt Library 18111 Nordhoff Street Northridge\, CA 91330
UID:e.3286.544
SEQUENCE:3
DTSTAMP:20260422T093227Z
URL:https://members.granadachamber.com/events/details/workshop-addressing-earthquake-risks-for-small-business-544
END:VEVENT

END:VCALENDAR
