BEGIN:VCALENDAR
VERSION:2.0
PRODID:-//ChamberMaster//Event Calendar 2.0//EN
METHOD:PUBLISH
X-PUBLISHED-TTL:P3D
REFRESH-INTERVAL:P3D
CALSCALE:GREGORIAN
BEGIN:VEVENT
DTSTART:20180608T143000Z
DTEND:20180608T160000Z
X-MICROSOFT-CDO-ALLDAYEVENT:FALSE
SUMMARY:VNA Breakfast Mixer at Airtel Plaza Hotel
DESCRIPTION:Multi-Chamber Breakfast Networking Event \n\nGreat way to Network
X-ALT-DESC;FMTTYPE=text/html:Multi-Chamber Breakfast Networking Event&nbsp\;<br />\nGreat way to Network
LOCATION:Hosted at: Airtel Plaza Hotel & Conference Center 7277 Valjean Avenue\, Van Nuys\, CA 91406
UID:e.3286.138
SEQUENCE:3
DTSTAMP:20260422T151513Z
URL:https://members.granadachamber.com/events/details/vna-breakfast-mixer-at-airtel-plaza-hotel-138
END:VEVENT

END:VCALENDAR
