BEGIN:VCALENDAR
VERSION:2.0
PRODID:-//ChamberMaster//Event Calendar 2.0//EN
METHOD:PUBLISH
X-PUBLISHED-TTL:P3D
REFRESH-INTERVAL:P3D
CALSCALE:GREGORIAN
BEGIN:VEVENT
DTSTART;VALUE=DATE:20181017
DTEND;VALUE=DATE:20181031
TRANSP:TRANSPARENT
X-MICROSOFT-CDO-ALLDAYEVENT:TRUE
SUMMARY:VFW Scholarship Opportunities
DESCRIPTION:The VFW "Patriot Pens"\, "Voice of Democracy" and Smart/Maher VFW National Citizenship Education Teacher Award participants/nominations is an awesome set of scholarship programs that I hope you can share with your family\, friends and colleagues.\n\nEntries/nominations to be returned Brad Klimovitch no later than Oct. 30\, 2018 to meet the program deadline date.\n\nThis is fantastic scholarship opportunity for an ambitious student and exceptional teacher. Thank you in advance for your time\, consideration and support.
X-ALT-DESC;FMTTYPE=text/html:<br />\nThe VFW &quot\;Patriot Pens&quot\;\, &quot\;Voice of Democracy&quot\; and Smart/Maher VFW National Citizenship Education Teacher Award participants/nominations is an awesome set of scholarship programs that I hope you can share with your family\, friends and colleagues.<br />\nEntries/nominations to be returned <em><strong>Brad Klimovitch</strong></em> no later than Oct. 30\, 2018 to meet the program deadline date.<br />\nThis is fantastic scholarship opportunity for an ambitious student and exceptional teacher. Thank you in advance for your time\, consideration and support.<br />\n&nbsp\;
LOCATION:Application can be picked up at\; VFW Post 2323 17522 Chatsworth Street Granada Hills\, CA 91344
UID:e.3286.1836
SEQUENCE:3
DTSTAMP:20260422T073634Z
URL:https://members.granadachamber.com/events/details/vfw-scholarship-opportunities-1836
END:VEVENT

END:VCALENDAR
