BEGIN:VCALENDAR
VERSION:2.0
PRODID:-//ChamberMaster//Event Calendar 2.0//EN
METHOD:PUBLISH
X-PUBLISHED-TTL:P3D
REFRESH-INTERVAL:P3D
CALSCALE:GREGORIAN
BEGIN:VEVENT
DTSTART:20180819T170000Z
DTEND:20180819T200000Z
X-MICROSOFT-CDO-ALLDAYEVENT:FALSE
SUMMARY:VFW Post 2323 Sunday Breakfast - August 19
DESCRIPTION:VFW Post 2323 - Sunda Breakfast  $9\n\nMark your calendars\, set your cell phone reminders\, and bring your family and friends to the Post Breakfast 10am to 1pm Sunday Aug. 19. Delicious food\, cool drinks\, and camaraderie too. Before ya know it it will be football season too. Watch the Saturday NFL Pre-Season highlights on the Ray Pollok Patio big screen or Canteen big screens and show your support.
X-ALT-DESC;FMTTYPE=text/html:<em><strong>VFW Post 2323 - Sunda Breakfast&nbsp\; $9</strong></em><br />\nMark your calendars\, set your cell phone reminders\, and bring your family and friends to the Post Breakfast 10am to 1pm Sunday Aug. 19. Delicious food\, cool drinks\, and camaraderie too. Before ya know it it will be football season too. Watch the Saturday NFL Pre-Season highlights on the Ray Pollok Patio big screen or Canteen big screens and show your support.
LOCATION:VFW Post 2323 17522 Chatsworth Street Granada Hills\, CA 91344
UID:e.3286.950
SEQUENCE:3
DTSTAMP:20260422T093231Z
URL:https://members.granadachamber.com/events/details/vfw-post-2323-sunday-breakfast-august-19-950
END:VEVENT

END:VCALENDAR
