BEGIN:VCALENDAR
VERSION:2.0
PRODID:-//ChamberMaster//Event Calendar 2.0//EN
METHOD:PUBLISH
X-PUBLISHED-TTL:P3D
REFRESH-INTERVAL:P3D
CALSCALE:GREGORIAN
BEGIN:VEVENT
DTSTART:20181223T180000Z
DTEND:20181223T200000Z
X-MICROSOFT-CDO-ALLDAYEVENT:FALSE
SUMMARY:VFW Post 2323 - Sunday Breakfast
DESCRIPTION:VFW Post 2323\n\nHutch's Sunday Breakfast
X-ALT-DESC;FMTTYPE=text/html:VFW Post 2323<br />\nHutch&#39\;s Sunday Breakfast
LOCATION:VFW Post 2323 17522 Chatsworth Street Granada Hills\, CA 91344
UID:e.3286.2655
SEQUENCE:3
DTSTAMP:20260422T022801Z
URL:https://members.granadachamber.com/events/details/vfw-post-2323-sunday-breakfast-2655
END:VEVENT

END:VCALENDAR
