BEGIN:VCALENDAR
VERSION:2.0
PRODID:-//ChamberMaster//Event Calendar 2.0//EN
METHOD:PUBLISH
X-PUBLISHED-TTL:P3D
REFRESH-INTERVAL:P3D
CALSCALE:GREGORIAN
BEGIN:VEVENT
DTSTART;VALUE=DATE:20181001
DTEND;VALUE=DATE:20181101
TRANSP:TRANSPARENT
X-MICROSOFT-CDO-ALLDAYEVENT:TRUE
SUMMARY:VFW Post 2323 October Event Calendar
DESCRIPTION:VFW Post 2323\n\nOctober Event Calendar
X-ALT-DESC;FMTTYPE=text/html:VFW Post 2323<br />\nOctober Event Calendar
LOCATION:17522 Chatsworth Street Granada Hills\, CA 91344
UID:e.3286.1625
SEQUENCE:3
DTSTAMP:20260422T054237Z
URL:https://members.granadachamber.com/events/details/vfw-post-2323-october-event-calendar-1625
END:VEVENT

END:VCALENDAR
