BEGIN:VCALENDAR
VERSION:2.0
PRODID:-//ChamberMaster//Event Calendar 2.0//EN
METHOD:PUBLISH
X-PUBLISHED-TTL:P3D
REFRESH-INTERVAL:P3D
CALSCALE:GREGORIAN
BEGIN:VEVENT
DTSTART:20190101T030000Z
DTEND:20190101T100000Z
X-MICROSOFT-CDO-ALLDAYEVENT:FALSE
SUMMARY:VFW Post 2323 - New Year's Eve Celebration
DESCRIPTION:VFW Post 2323\n\nNew Year's Eve Celebration "POTLUCK DINNER"\n\nFeaturing DJ Miguel "The Jam Man"
X-ALT-DESC;FMTTYPE=text/html:VFW Post 2323<br />\nNew Year&#39\;s Eve Celebration &quot\;POTLUCK DINNER&quot\;<br />\nFeaturing DJ Miguel &quot\;The Jam Man&quot\;
LOCATION:VFW Post 2323 17522 Chatsworth Street Granada Hills\, CA 91344
UID:e.3286.2656
SEQUENCE:3
DTSTAMP:20260422T004045Z
URL:https://members.granadachamber.com/events/details/vfw-post-2323-new-year-s-eve-celebration-2656
END:VEVENT

END:VCALENDAR
