BEGIN:VCALENDAR
VERSION:2.0
PRODID:-//ChamberMaster//Event Calendar 2.0//EN
METHOD:PUBLISH
X-PUBLISHED-TTL:P3D
REFRESH-INTERVAL:P3D
CALSCALE:GREGORIAN
BEGIN:VEVENT
DTSTART:20180529T010000Z
DTEND:20180529T030000Z
X-MICROSOFT-CDO-ALLDAYEVENT:FALSE
SUMMARY:VFW Post 2323 Invitation - Memorial Day
DESCRIPTION:The VFW Post 2323 Invites you to join us on \n\nMemorial Day\n\nTo Commemorate the Men and Women of our armed forces that have made the Ultimate sacrifice
X-ALT-DESC;FMTTYPE=text/html:<em><strong>The VFW Post 2323 Invites you to join us on&nbsp\;<br />\nMemorial Day<br />\nTo Commemorate the Men and Women of our armed forces that have made the Ultimate sacrifice</strong></em><br />\n<br />\n&nbsp\;
LOCATION:At The Veteran's Corner Corner of Zelzah and Chatsworth Street And after at The Post 2323 17522 Chatsworth Street\, Granada Hills\, CA 91344
UID:e.3286.137
SEQUENCE:3
DTSTAMP:20260422T150512Z
URL:https://members.granadachamber.com/events/details/vfw-post-2323-invitation-memorial-day-137
END:VEVENT

END:VCALENDAR
