BEGIN:VCALENDAR
VERSION:2.0
PRODID:-//ChamberMaster//Event Calendar 2.0//EN
METHOD:PUBLISH
X-PUBLISHED-TTL:P3D
REFRESH-INTERVAL:P3D
CALSCALE:GREGORIAN
BEGIN:VEVENT
DTSTART:20180707T000000Z
DTEND:20180707T050000Z
X-MICROSOFT-CDO-ALLDAYEVENT:FALSE
SUMMARY:VFW Post 2323 - Dinner\, Dance and Live Music
DESCRIPTION:VFW Post 2323\n\nDinner 5pm to 7:30pm\n\nDance and Live Musinc at 7:30pm
X-ALT-DESC;FMTTYPE=text/html:VFW Post 2323<br />\nDinner 5pm to 7:30pm<br />\nDance and Live Musinc at 7:30pm
LOCATION:VFW Post 2323 17522 Chatsworth Street Granada Hills\, CA 91344
UID:e.3286.508
SEQUENCE:3
DTSTAMP:20260422T112808Z
URL:https://members.granadachamber.com/events/details/vfw-post-2323-dinner-dance-and-live-music-508
END:VEVENT

END:VCALENDAR
