BEGIN:VCALENDAR
VERSION:2.0
PRODID:-//ChamberMaster//Event Calendar 2.0//EN
METHOD:PUBLISH
X-PUBLISHED-TTL:P3D
REFRESH-INTERVAL:P3D
CALSCALE:GREGORIAN
BEGIN:VEVENT
DTSTART;VALUE=DATE:20190201
DTEND;VALUE=DATE:20190301
TRANSP:TRANSPARENT
X-MICROSOFT-CDO-ALLDAYEVENT:TRUE
SUMMARY:VFW FEBRUARY CALENDAR
DESCRIPTION:VFW Post 2323 - February Calendar\n\nFor your Special Events\, please contact (818)366-7799
X-ALT-DESC;FMTTYPE=text/html:VFW Post 2323 - February Calendar<br />\nFor your Special Events\, please contact (818)366-7799
LOCATION:17522 Chatsworth Street Granada Hills\, CA 91344
UID:e.3286.4135
SEQUENCE:3
DTSTAMP:20260422T005549Z
URL:https://members.granadachamber.com/events/details/vfw-february-calendar-4135
END:VEVENT

END:VCALENDAR
