BEGIN:VCALENDAR
VERSION:2.0
PRODID:-//ChamberMaster//Event Calendar 2.0//EN
METHOD:PUBLISH
X-PUBLISHED-TTL:P3D
REFRESH-INTERVAL:P3D
CALSCALE:GREGORIAN
BEGIN:VEVENT
DTSTART;VALUE=DATE:20180917
DTEND;VALUE=DATE:20180918
TRANSP:TRANSPARENT
X-MICROSOFT-CDO-ALLDAYEVENT:TRUE
SUMMARY:Valley Disaster Preparedness Kit Build Day
DESCRIPTION:Valley Disaster Preparedness Fair Kit Build Day\n\n*******Need Volunteers******
X-ALT-DESC;FMTTYPE=text/html:<span style="font-size:14px\;"><strong>Valley Disaster Preparedness Fair Kit Build Day<br />\n<span style="color:#FF0000\;">*******Need Volunteers******</span></strong></span>
LOCATION:New Horizons in North Hills (contact Bill Hopkins for information) bill.hopkins@socalprep.us
UID:e.3286.539
SEQUENCE:3
DTSTAMP:20260422T074314Z
URL:https://members.granadachamber.com/events/details/valley-disaster-preparedness-kit-build-day-539
END:VEVENT

END:VCALENDAR
