BEGIN:VCALENDAR
VERSION:2.0
PRODID:-//ChamberMaster//Event Calendar 2.0//EN
METHOD:PUBLISH
X-PUBLISHED-TTL:P3D
REFRESH-INTERVAL:P3D
CALSCALE:GREGORIAN
BEGIN:VEVENT
DTSTART:20180929T160000Z
DTEND:20180929T203000Z
X-MICROSOFT-CDO-ALLDAYEVENT:FALSE
SUMMARY:Valley Disaster Preparedness Fair
DESCRIPTION:Valley Disaster Preparedness Fair Kit
X-ALT-DESC;FMTTYPE=text/html:<span style="font-size:14px\;"><strong>Valley Disaster Preparedness Fair Kit</strong></span>
LOCATION:Pacific Theaters Parking Lot 9400 Shirley Ave at Northridge Fashion Center (east of Shirley Ave & south of Plummer st) bill.hopkins@socalprep.us
UID:e.3286.540
SEQUENCE:3
DTSTAMP:20260420T084401Z
URL:https://members.granadachamber.com/events/details/valley-disaster-preparedness-fair-540
END:VEVENT

END:VCALENDAR
