BEGIN:VCALENDAR
VERSION:2.0
PRODID:-//ChamberMaster//Event Calendar 2.0//EN
METHOD:PUBLISH
X-PUBLISHED-TTL:P3D
REFRESH-INTERVAL:P3D
CALSCALE:GREGORIAN
BEGIN:VEVENT
DTSTART:20180801T183000Z
DTEND:20180801T203000Z
X-MICROSOFT-CDO-ALLDAYEVENT:FALSE
SUMMARY:UCC - State of County Luncheon
DESCRIPTION:United Chamber of Commerce Presents\n\nState of The County Luncheon\n\n$40 per person  -  RSVP ONLY - by July 25th\n\n(There will be no walk-ins)
X-ALT-DESC;FMTTYPE=text/html:United Chamber of Commerce Presents<br />\nState of The County Luncheon<br />\n$40 per person&nbsp\; -&nbsp\; RSVP ONLY - by July 25th<br />\n(There will be no walk-ins)
LOCATION:Porter Valley Country Club 19216 Singing Hills Drive Northridge\, CA 91326
UID:e.3286.532
SEQUENCE:3
DTSTAMP:20260424T082052Z
URL:https://members.granadachamber.com/events/details/ucc-state-of-county-luncheon-532
END:VEVENT

END:VCALENDAR
