BEGIN:VCALENDAR
VERSION:2.0
PRODID:-//ChamberMaster//Event Calendar 2.0//EN
METHOD:PUBLISH
X-PUBLISHED-TTL:P3D
REFRESH-INTERVAL:P3D
CALSCALE:GREGORIAN
BEGIN:VEVENT
DTSTART:20180601T143000Z
DTEND:20180601T163000Z
X-MICROSOFT-CDO-ALLDAYEVENT:FALSE
SUMMARY:UCC Small Business Award Breakfast
DESCRIPTION:UCC Small Business Award Breakfast\n\n13 Chambers' Community has one Business Selected\n\n$30/per Member\n\n$35/per Non-Member
X-ALT-DESC;FMTTYPE=text/html:UCC Small Business Award Breakfast<br />\n13 Chambers&#39\; Community has one Business Selected<br />\n$30/per Member<br />\n$35/per Non-Member
LOCATION:Monterey @ Encino 16821 Burbank Blvd.\, Encino\, CA 91436
UID:e.3286.144
SEQUENCE:3
DTSTAMP:20260422T132025Z
URL:https://members.granadachamber.com/events/details/ucc-small-business-award-breakfast-144
END:VEVENT

END:VCALENDAR
