BEGIN:VCALENDAR
VERSION:2.0
PRODID:-//ChamberMaster//Event Calendar 2.0//EN
METHOD:PUBLISH
X-PUBLISHED-TTL:P3D
REFRESH-INTERVAL:P3D
CALSCALE:GREGORIAN
BEGIN:VEVENT
DTSTART:20180524T180000Z
DTEND:20180525T040000Z
X-MICROSOFT-CDO-ALLDAYEVENT:FALSE
SUMMARY:The Stand Fundraising Supporting GHCC - May 24th
DESCRIPTION:The Stand - Northridge\, CA\n\nFundraiser to Support Granada Hills Chamber of Commerce
X-ALT-DESC;FMTTYPE=text/html:<span style="font-size:14px\;"><em><strong>The Stand - Northridge\, CA<br />\nFundraiser to Support Granada Hills Chamber of Commerce</strong></em></span>
LOCATION:19600 Plummer Street\, Northridge\, CA
UID:e.3286.139
SEQUENCE:3
DTSTAMP:20260422T150504Z
URL:https://members.granadachamber.com/events/details/the-stand-fundraising-supporting-ghcc-may-24th-139
END:VEVENT

END:VCALENDAR
