BEGIN:VCALENDAR
VERSION:2.0
PRODID:-//ChamberMaster//Event Calendar 2.0//EN
METHOD:PUBLISH
X-PUBLISHED-TTL:P3D
REFRESH-INTERVAL:P3D
CALSCALE:GREGORIAN
BEGIN:VEVENT
DTSTART:20190303T220000Z
DTEND:20190304T000000Z
X-MICROSOFT-CDO-ALLDAYEVENT:FALSE
SUMMARY:The Sedalia Ragtime Orchestra at GHWC
DESCRIPTION:Ragtime Concert with \n\nThe Sedalia Ragtime Orchestra\n\nAn amazing group of 15 members playing and singing songs from the 1890's through 1917.   You won't be able to resist foot tapping and swaying the the music!
X-ALT-DESC;FMTTYPE=text/html:Ragtime Concert with&nbsp\;<br />\nThe Sedalia Ragtime Orchestra<br />\nAn amazing group of 15 members playing and singing songs from the 1890&#39\;s through 1917.&nbsp\; &nbsp\;You won&#39\;t be able to resist foot tapping and swaying the the music!
LOCATION:Granada Hills Woman's Club 10666 White Oak Ave Granada Hills\, CA 9134
UID:e.3286.2688
SEQUENCE:3
DTSTAMP:20260421T225116Z
URL:https://members.granadachamber.com/events/details/the-sedalia-ragtime-orchestra-at-ghwc-2688
END:VEVENT

END:VCALENDAR
