BEGIN:VCALENDAR
VERSION:2.0
PRODID:-//ChamberMaster//Event Calendar 2.0//EN
METHOD:PUBLISH
X-PUBLISHED-TTL:P3D
REFRESH-INTERVAL:P3D
CALSCALE:GREGORIAN
BEGIN:VEVENT
DTSTART:20190324T180000Z
DTEND:20190324T220000Z
X-MICROSOFT-CDO-ALLDAYEVENT:FALSE
SUMMARY:The Odyssey's Bridal Open House
DESCRIPTION:You Are Cordially Invited to \n\nThe Odyssey's Bridal Open House\n\nMarch 24\, 2019\n\n11am - 3pm\n\n \n\nMeet and Greet Vendors\n\nFashion Show\n\nVenue Tours (breath taking view of San Fernando Valley)\n\nRaffle Prizes
X-ALT-DESC;FMTTYPE=text/html:<strong><span style="color:#403F42\;"><span style="font-family:segoe print\;"><span style="font-size:13.5pt\;">You Are Cordially Invited to </span></span></span></strong><br />\n<strong><span style="color:#403F42\;"><span style="font-family:segoe print\;"><span style="font-size:13.5pt\;">The Odyssey&#39\;s Bridal Open House</span></span></span></strong><br />\n<strong><span style="color:#403F42\;"><span style="font-family:segoe print\;"><span style="font-size:13.5pt\;">March 24\, 2019</span></span></span></strong><br />\n<strong><span style="color:#403F42\;"><span style="font-family:segoe print\;"><span style="font-size:13.5pt\;">11am - 3pm</span></span></span></strong><br />\n&nbsp\;<br />\n<strong><span style="color:#403F42\;"><span style="font-family:segoe print\;"><span style="font-size:13.5pt\;">Meet and Greet Vendors</span></span></span></strong><br />\n<strong><span style="color:#403F42\;"><span style="font-family:segoe print\;"><span style="font-size:13.5pt\;">Fashion Show</span></span></span></strong><br />\n<strong><span style="color:#403F42\;"><span style="font-family:segoe print\;"><span style="font-size:13.5pt\;">Venue Tours (breath taking view of San Fernando Valley)</span></span></span></strong><br />\n<strong><span style="color:#403F42\;"><span style="font-family:segoe print\;"><span style="font-size:13.5pt\;">Raffle Prizes</span></span></span></strong>
LOCATION:The Odyssey 15600 Odyssey Drive Granada Hills\, CA 91344
UID:e.3286.2697
SEQUENCE:3
DTSTAMP:20260421T225530Z
URL:https://members.granadachamber.com/events/details/the-odyssey-s-bridal-open-house-2697
END:VEVENT

END:VCALENDAR
