BEGIN:VCALENDAR
VERSION:2.0
PRODID:-//ChamberMaster//Event Calendar 2.0//EN
METHOD:PUBLISH
X-PUBLISHED-TTL:P3D
REFRESH-INTERVAL:P3D
CALSCALE:GREGORIAN
BEGIN:VEVENT
DTSTART;VALUE=DATE:20181202
DTEND;VALUE=DATE:20181203
TRANSP:TRANSPARENT
X-MICROSOFT-CDO-ALLDAYEVENT:TRUE
SUMMARY:The Museum of the San Fernando Valley
DESCRIPTION:UPCOMING EXHIBITS AND EVENTS!\n\nThe Museum of the San Fernando Valley\n\nSeptember - December 2018 Calendar\n\nJoin Us!
X-ALT-DESC;FMTTYPE=text/html:<em><strong>UPCOMING EXHIBITS AND EVENTS!</strong></em><br />\n<strong>The Museum of the San Fernando Valley<br />\nSeptember - December 2018 Calendar<br />\nJoin Us!</strong>
LOCATION:The Museum SFV 18860 Nordhoff Street\, #204 Northridge\, CA 91324
UID:e.3286.1556
SEQUENCE:3
DTSTAMP:20260422T023808Z
URL:https://members.granadachamber.com/events/details/the-museum-of-the-san-fernando-valley-12-02-2018-1556
END:VEVENT

END:VCALENDAR
