BEGIN:VCALENDAR
VERSION:2.0
PRODID:-//ChamberMaster//Event Calendar 2.0//EN
METHOD:PUBLISH
X-PUBLISHED-TTL:P3D
REFRESH-INTERVAL:P3D
CALSCALE:GREGORIAN
BEGIN:VEVENT
DTSTART:20181210T020000Z
DTEND:20181210T070000Z
X-MICROSOFT-CDO-ALLDAYEVENT:FALSE
SUMMARY:The Humidor - Annual Customer Appreciation Party
DESCRIPTION:Please Join The Humidor for their\n\nAnnual Customer Appreciation Party
X-ALT-DESC;FMTTYPE=text/html:Please Join The Humidor for their<br />\nAnnual Customer Appreciation Party<br />\n<br />\n&nbsp\;
LOCATION:The Humidor 11027 Balboa Blvd Granada Hills\, CA 91344
UID:e.3286.2647
SEQUENCE:3
DTSTAMP:20260422T023003Z
URL:https://members.granadachamber.com/events/details/the-humidor-annual-customer-appreciation-party-2647
END:VEVENT

END:VCALENDAR
