BEGIN:VCALENDAR
VERSION:2.0
PRODID:-//ChamberMaster//Event Calendar 2.0//EN
METHOD:PUBLISH
X-PUBLISHED-TTL:P3D
REFRESH-INTERVAL:P3D
CALSCALE:GREGORIAN
BEGIN:VEVENT
DTSTART:20180609T163000Z
DTEND:20180609T173000Z
X-MICROSOFT-CDO-ALLDAYEVENT:FALSE
SUMMARY:Summer Speaker Series - "Help! I Can't Breathe!"
DESCRIPTION:Summer Speaker Series - Aegis Living invites Speakers on a monthly basis with different topics.   In June Invitation has been extended to Dr. Chidinma Chima-Melton to speak on identifying the common causes for difficulty breathing in older adults.
X-ALT-DESC;FMTTYPE=text/html:Summer Speaker Series - Aegis Living invites Speakers on a monthly basis with different topics.&nbsp\; &nbsp\;In June Invitation has been extended to Dr. Chidinma Chima-Melton&nbsp\;to speak on identifying the common causes for difficulty breathing in older adults.
LOCATION:10801 Lindley Avenue\, Granada Hills\, CA 91344
UID:e.3286.132
SEQUENCE:3
DTSTAMP:20260422T151717Z
URL:https://members.granadachamber.com/events/details/summer-speaker-series-help-i-can-t-breathe-132
END:VEVENT

END:VCALENDAR
