BEGIN:VCALENDAR
VERSION:2.0
PRODID:-//ChamberMaster//Event Calendar 2.0//EN
METHOD:PUBLISH
X-PUBLISHED-TTL:P3D
REFRESH-INTERVAL:P3D
CALSCALE:GREGORIAN
BEGIN:VEVENT
DTSTART:20180720T190000Z
DTEND:20180720T210000Z
X-MICROSOFT-CDO-ALLDAYEVENT:FALSE
SUMMARY:Ribbon Cutting Ceremony - The Rose Yarde
DESCRIPTION:Ribbon Cutting Ceremony & Grand Opening\n\nThe Rose Yarde
X-ALT-DESC;FMTTYPE=text/html:Ribbon Cutting Ceremony &amp\; Grand Opening<br />\nThe Rose Yarde
LOCATION:17709 Chatsworth Street Granada Hills\, CA 91344
UID:e.3286.136
SEQUENCE:3
DTSTAMP:20260422T112906Z
URL:https://members.granadachamber.com/events/details/ribbon-cutting-ceremony-the-rose-yarde-136
END:VEVENT

END:VCALENDAR
