BEGIN:VCALENDAR
VERSION:2.0
PRODID:-//ChamberMaster//Event Calendar 2.0//EN
METHOD:PUBLISH
X-PUBLISHED-TTL:P3D
REFRESH-INTERVAL:P3D
CALSCALE:GREGORIAN
BEGIN:VEVENT
DTSTART:20180601T020000Z
DTEND:20180601T050000Z
X-MICROSOFT-CDO-ALLDAYEVENT:FALSE
SUMMARY:Ribbon Cutting Ceremony - Nur Boutique
DESCRIPTION:New Member Ribbon Cutting Ceremony and Grand Opening!
X-ALT-DESC;FMTTYPE=text/html:New Member Ribbon Cutting Ceremony and Grand Opening!
LOCATION:11132 Balboa Blvd.\, Granada Hills\, CA 91344
UID:e.3286.2
SEQUENCE:3
DTSTAMP:20260422T150629Z
URL:https://members.granadachamber.com/events/details/ribbon-cutting-ceremony-nur-boutique-2
END:VEVENT

END:VCALENDAR
