BEGIN:VCALENDAR
VERSION:2.0
PRODID:-//ChamberMaster//Event Calendar 2.0//EN
METHOD:PUBLISH
X-PUBLISHED-TTL:P3D
REFRESH-INTERVAL:P3D
CALSCALE:GREGORIAN
BEGIN:VEVENT
DTSTART:20181010T190000Z
DTEND:20181010T210000Z
X-MICROSOFT-CDO-ALLDAYEVENT:FALSE
SUMMARY:Ribbon Cutting Ceremony - Nothing Bundt Cakes
DESCRIPTION:Please join us for the Grand Opening and Ribbon Cutting Ceremony\n\nfor Nothing Bundt Cakes in Granada Hills
X-ALT-DESC;FMTTYPE=text/html:Please join us for the Grand Opening and Ribbon Cutting Ceremony<br />\nfor <u><em><strong>Nothing Bundt Cakes</strong></em></u> in Granada Hills
LOCATION:18011 Chatsworth Street\, Granada Hills\, CA 91344 (In TJMaxx Shopping Center)
UID:e.3286.1593
SEQUENCE:3
DTSTAMP:20260422T073730Z
URL:https://members.granadachamber.com/events/details/ribbon-cutting-ceremony-nothing-bundt-cakes-1593
END:VEVENT

END:VCALENDAR
