BEGIN:VCALENDAR
VERSION:2.0
PRODID:-//ChamberMaster//Event Calendar 2.0//EN
METHOD:PUBLISH
X-PUBLISHED-TTL:P3D
REFRESH-INTERVAL:P3D
CALSCALE:GREGORIAN
BEGIN:VEVENT
DTSTART:20190330T170000Z
DTEND:20190330T190000Z
X-MICROSOFT-CDO-ALLDAYEVENT:FALSE
SUMMARY:Ribbon Cutting Ceremony - AusSam Candy\, LLC
DESCRIPTION:You are Cordially Invited to\n\nGrand Opening and Ribbon Cutting\n\nAusSam Candy LLC\n\nA very cute store joined our Business Community!
X-ALT-DESC;FMTTYPE=text/html:You are Cordially Invited to<br />\nGrand Opening and Ribbon Cutting<br />\n<em><strong>AusSam Candy LLC</strong></em><br />\nA very cute store joined our Business Community!
LOCATION:17812 Chatsworth Street Granada Hills\, CA 91344
UID:e.3286.4144
SEQUENCE:3
DTSTAMP:20260421T211559Z
URL:https://members.granadachamber.com/events/details/ribbon-cutting-ceremony-aussam-candy-llc-4144
END:VEVENT

END:VCALENDAR
