BEGIN:VCALENDAR
VERSION:2.0
PRODID:-//ChamberMaster//Event Calendar 2.0//EN
METHOD:PUBLISH
X-PUBLISHED-TTL:P3D
REFRESH-INTERVAL:P3D
CALSCALE:GREGORIAN
BEGIN:VEVENT
DTSTART:20180713T190000Z
DTEND:20180713T210000Z
X-MICROSOFT-CDO-ALLDAYEVENT:FALSE
SUMMARY:Ribbon Cutting Ceremony - Aegis Living
DESCRIPTION:Ribbon Cutting Ceremony\n\nAegis Granada Hills Assisted Living and Memory Care
X-ALT-DESC;FMTTYPE=text/html:Ribbon Cutting Ceremony<br />\nAegis&nbsp\;Granada Hills Assisted Living and Memory Care
LOCATION:10801 Lindley Avenue Granada Hills\, CA 91344
UID:e.3286.135
SEQUENCE:3
DTSTAMP:20260422T114438Z
URL:https://members.granadachamber.com/events/details/ribbon-cutting-ceremony-aegis-living-135
END:VEVENT

END:VCALENDAR
