BEGIN:VCALENDAR
VERSION:2.0
PRODID:-//ChamberMaster//Event Calendar 2.0//EN
METHOD:PUBLISH
X-PUBLISHED-TTL:P3D
REFRESH-INTERVAL:P3D
CALSCALE:GREGORIAN
BEGIN:VEVENT
DTSTART:20190125T173000Z
DTEND:20190125T220000Z
X-MICROSOFT-CDO-ALLDAYEVENT:FALSE
SUMMARY:REMINDER! GH Woman's Club - Annual Luncheon BUNCO Party
DESCRIPTION:Postscripts Federated Club\n\nYour are cordially invited to\n\nAnnual Luncheon and Bunco Party!
X-ALT-DESC;FMTTYPE=text/html:<span style="font-size:18px\;"><em><strong>Postscripts Federated Club<br />\nYour are cordially invited to<br />\nAnnual Luncheon and Bunco Party!</strong></em></span>
LOCATION:Granada Hills Woman's Club 10666 White Oak Ave Granada Hills\, CA 91344
UID:e.3286.2702
SEQUENCE:3
DTSTAMP:20260422T004521Z
URL:https://members.granadachamber.com/events/details/reminder-gh-woman-s-club-annual-luncheon-bunco-party-2702
END:VEVENT

END:VCALENDAR
