BEGIN:VCALENDAR
VERSION:2.0
PRODID:-//ChamberMaster//Event Calendar 2.0//EN
METHOD:PUBLISH
X-PUBLISHED-TTL:P3D
REFRESH-INTERVAL:P3D
CALSCALE:GREGORIAN
BEGIN:VEVENT
DTSTART:20181027T160000Z
DTEND:20181028T160000Z
X-MICROSOFT-CDO-ALLDAYEVENT:FALSE
SUMMARY:Relay For Life of The VAlley - 24 Hour Event
DESCRIPTION:Relay For Life of The Valley\n\nJoin our San Fernando Valley Communities\n\nin a 24 hour event to fight Cancer
X-ALT-DESC;FMTTYPE=text/html:<em><strong><span style="font-size:14px\;">Relay For Life of The Valley<br />\nJoin our San Fernando Valley Communities<br />\nin a 24 hour event to fight Cancer</span></strong></em>
LOCATION:Grant High School - Football Field 13000 Oxnard Street\, Valley Glen\, CA 91401
UID:e.3286.1831
SEQUENCE:3
DTSTAMP:20260422T074440Z
URL:https://members.granadachamber.com/events/details/relay-for-life-of-the-valley-24-hour-event-1831
END:VEVENT

END:VCALENDAR
