BEGIN:VCALENDAR
VERSION:2.0
PRODID:-//ChamberMaster//Event Calendar 2.0//EN
METHOD:PUBLISH
X-PUBLISHED-TTL:P3D
REFRESH-INTERVAL:P3D
CALSCALE:GREGORIAN
BEGIN:VEVENT
DTSTART:20180809T220000Z
DTEND:20180810T020000Z
X-MICROSOFT-CDO-ALLDAYEVENT:FALSE
SUMMARY:Piano or Guitar lessons. Teachers with Master Degree
DESCRIPTION:Prado Academy of Music is offering a Back to school promotion for the first 10 people who call!!! About Us Prado Academy is a music academy. We offer a full suite of high energy and creative music program. Founder\, Jennifer Prado is a classically trained concert pianist with an abundance of creativity and warmth. You walk into her space and instantly feel welcomed and at home. Who is teaching? Qualified teachers!!! We have a Master Degree level of education and are active professional musicians with many years of teaching experience at all levels and ages. Do I have to bring something? No. All class material is included. Just bring your smile\, if not we will provide that too! All ages and levels welcome!!! If you are interested\, please send us an email to info@pradoacademy.com or call 310.345.2380. Fill out the information below and collect your prize: - Name - Phone number - Lesson (Guitar or Piano) - Time which is best for you For more info check us out at www.pradoacademy.com See you soon!
X-ALT-DESC;FMTTYPE=text/html:Prado Academy of Music is offering a Back to school promotion for the first 10 people who call!!! About Us Prado Academy is a music academy. We offer a full suite of high energy and creative music program. Founder\, Jennifer Prado is a classically trained concert pianist with an abundance of creativity and warmth. You walk into her space and instantly feel welcomed and at home. Who is teaching? Qualified teachers!!! We have a Master Degree level of education and are active professional musicians with many years of teaching experience at all levels and ages. Do I have to bring something? No. All class material is included. Just bring your smile\, if not we will provide that too! All ages and levels welcome!!! If you are interested\, please send us an email to info@pradoacademy.com or call 310.345.2380. Fill out the information below and collect your prize: - Name - Phone number - Lesson (Guitar or Piano) - Time which is best for you For more info check us out at www.pradoacademy.com See you soon!
LOCATION:Prado Academy of Music 17418 Chatsworth Street\, Suite 102. Granada Hills\, CA 91344
UID:e.3286.541
SEQUENCE:3
DTSTAMP:20260422T093415Z
URL:https://members.granadachamber.com/events/details/piano-or-guitar-lessons-teachers-with-master-degree-541
END:VEVENT

END:VCALENDAR
