BEGIN:VCALENDAR
VERSION:2.0
PRODID:-//ChamberMaster//Event Calendar 2.0//EN
METHOD:PUBLISH
X-PUBLISHED-TTL:P3D
REFRESH-INTERVAL:P3D
CALSCALE:GREGORIAN
BEGIN:VEVENT
DTSTART:20190330T200000Z
DTEND:20190330T220000Z
X-MICROSOFT-CDO-ALLDAYEVENT:FALSE
SUMMARY:Next WVNAH Planning Mtg / March 30th @1pm
DESCRIPTION:WVNAH Planning Meeting
X-ALT-DESC;FMTTYPE=text/html:WVNAH Planning Meeting
LOCATION:Chatsworth High School
UID:e.3286.2700
SEQUENCE:3
DTSTAMP:20260421T211542Z
URL:https://members.granadachamber.com/events/details/next-wvnah-planning-mtg-march-30th-1pm-2700
END:VEVENT

END:VCALENDAR
