BEGIN:VCALENDAR
VERSION:2.0
PRODID:-//ChamberMaster//Event Calendar 2.0//EN
METHOD:PUBLISH
X-PUBLISHED-TTL:P3D
REFRESH-INTERVAL:P3D
CALSCALE:GREGORIAN
BEGIN:VEVENT
DTSTART:20190126T220000Z
DTEND:20190127T000000Z
X-MICROSOFT-CDO-ALLDAYEVENT:FALSE
SUMMARY:Next WVNAH Planning Mtg / Jan. 26 at 2pm at Granada Hills HS
DESCRIPTION:Just a few reminders - \n\n	Our next planning meeting is this Saturday\, 1/26/19 at Granada Hills High School\, 2 pm\; agenda and meeting mins to follow.\n	Please continue to update provider confirmations on the Google sheet\; Harry Sherman has graciously offered to help assist with this process. Please contact him as needed\,(hsherman2@sbcglobal.net) \n\n	\n\n	\n\n	\n\n	 https://drive.google.com/drive/folders/1dSW1nQLjqNt-pTxKJzBdOKpx8t7kvXvm\n	RE: Speakers - we continue to look for appropriate brief speakers (3-5 mins\; 3-4 speakers) for all scheduled open house forums.  Keven Taylor has agreed to oversee this process\; you can contact him at kevntaylr@gmail.com\n	Please continue to advertise our next open house(s)\; see flyer attached\, esp. the upcoming event on 2/16 (see list below)\n\nThank you for all you do in ending homelessness in our community.\n\n \n\nFeel free to contact me if you have any questions or concerns.\n\n \n\nWarm regards\,\n\nTom Booth\n\n818-437-8453\n\n \n\nFebruary 16\, 2019\n\nHighlander Hall at Granada Hills Charter High School\, 1 pm to 3 pm\n\n10535 Zelzah Avenue\, Granada Hills\n\nMarch 30\, 2019\n\nChatsworth High School\, 1 pm to 3 pm\n\n10027 Lurline Avenue\, Chatsworth\n\nJune 1\, 2019\, 1 pm to 3 pm\n\nOne Generation Senior Center\n\n18255 Victory Blvd\, Reseda
X-ALT-DESC;FMTTYPE=text/html:Just a few reminders -&nbsp\;\n<ul>\n	<li>Our next planning meeting is this Saturday\, 1/26/19 at Granada Hills High School\, 2 pm\; agenda and meeting mins to follow.</li>\n	<li>Please continue to update provider confirmations on the Google sheet\; Harry Sherman has graciously offered to help assist with this process. Please contact him as needed\,(<a href="mailto:hsherman2@sbcglobal.net" target="_blank">hsherman2@sbcglobal.net</a>)&nbsp\;<br />\n	<br />\n	<br />\n	<br />\n	&nbsp\;<a href="https://drive.google.com/drive/folders/1dSW1nQLjqNt-pTxKJzBdOKpx8t7kvXvm" target="_blank">https://drive.google.com/drive/folders/1dSW1nQLjqNt-pTxKJzBdOKpx8t7kvXvm</a></li>\n	<li>RE: Speakers - we continue to look for appropriate brief speakers (3-5 mins\; 3-4 speakers) for all scheduled open house forums.&nbsp\; Keven Taylor has agreed to oversee this process\; you can contact him at <a href="mailto:kevntaylr@gmail.com" target="_blank">kevntaylr@gmail.com</a></li>\n	<li>Please continue to advertise our next open house(s)\; see flyer attached\, esp. the upcoming event on 2/16 (see list below)</li>\n</ul>\nThank you for all you do in ending homelessness in our&nbsp\;community.<br />\n&nbsp\;<br />\nFeel free to contact me&nbsp\;if you have any questions or concerns.<br />\n&nbsp\;<br />\nWarm regards\,<br />\nTom Booth<br />\n818-437-8453<br />\n&nbsp\;<br />\n<strong><span style="color:#00000A\;"><span style="font-size:12.0pt\;">February 16\, 2019</span></span></strong><br />\n<span style="color:#00000A\;"><span style="font-size:12.0pt\;">Highlander Hall at Granada Hills Charter High School\, 1 pm to 3 pm</span></span><br />\n<span style="font-size:12.0pt\;">10535 Zelzah Avenue\, Granada Hills</span><br />\n<strong><span style="color:#00000A\;"><span style="font-size:12.0pt\;">March 30\, 2019</span></span></strong><br />\n<span style="color:#00000A\;"><span style="font-size:12.0pt\;">Chatsworth High School\, 1 pm to 3 pm<br />\n10027 Lurline Avenue\, Chatsworth</span></span><br />\n<strong><span style="color:#00000A\;"><span style="font-size:12.0pt\;">June 1\, 2019</span></span></strong><span style="color:#00000A\;"><span style="font-size:12.0pt\;">\, 1 pm to 3 pm<br />\nOne Generation Senior Center</span></span><br />\n<span style="font-size:12.0pt\;">18255 Victory Blvd\, Reseda</span>&nbsp\;&nbsp\;
LOCATION:Granada Hills Charter School
UID:e.3286.2698
SEQUENCE:3
DTSTAMP:20260422T004214Z
URL:https://members.granadachamber.com/events/details/next-wvnah-planning-mtg-jan-26-at-2pm-at-granada-hills-hs-2698
END:VEVENT

END:VCALENDAR
