BEGIN:VCALENDAR
VERSION:2.0
PRODID:-//ChamberMaster//Event Calendar 2.0//EN
METHOD:PUBLISH
X-PUBLISHED-TTL:P3D
REFRESH-INTERVAL:P3D
CALSCALE:GREGORIAN
BEGIN:VEVENT
DTSTART:20190216T210000Z
DTEND:20190216T230000Z
X-MICROSOFT-CDO-ALLDAYEVENT:FALSE
SUMMARY:Next WVNAH Planning Mtg / February 16 at 1pm
DESCRIPTION:West Valley Neighborhood Alliance on Homelessness Planning Meeting\n\nThe WVNAH is a community run organization hosting Free Public forums\n\nPlease join us to learn about homelessness solutions in the West Valley
X-ALT-DESC;FMTTYPE=text/html:West Valley Neighborhood Alliance on Homelessness Planning Meeting<br />\nThe WVNAH is a community run organization hosting Free Public forums<br />\nPlease join us to learn about homelessness solutions in the West Valley
LOCATION:Granada Hills Charter School Highlander Hall 10535 Zelzah Ave\, Granada Hills\, CA 91344 Entrace thru Zelzah
UID:e.3286.2699
SEQUENCE:3
DTSTAMP:20260421T224641Z
URL:https://members.granadachamber.com/events/details/next-wvnah-planning-mtg-february-16-at-1pm-2699
END:VEVENT

END:VCALENDAR
