BEGIN:VCALENDAR
VERSION:2.0
PRODID:-//ChamberMaster//Event Calendar 2.0//EN
METHOD:PUBLISH
X-PUBLISHED-TTL:P3D
REFRESH-INTERVAL:P3D
CALSCALE:GREGORIAN
BEGIN:VEVENT
DTSTART:20180729T003000Z
DTEND:20180729T030000Z
X-MICROSOFT-CDO-ALLDAYEVENT:FALSE
SUMMARY:Neighborhood Event Near You!
DESCRIPTION:XiXi Now Event\n\nAttend to receive a Free Ticket for August 10\, 11\, & 12th at Ventura Beach Event.  ($70 fee)\n\n\n\nClick Here
X-ALT-DESC;FMTTYPE=text/html:XiXi Now Event<br />\nAttend to receive a <em><strong><u>Free Ticket</u></strong></em> for August 10\, 11\, &amp\; 12th at Ventura Beach Event.&nbsp\; ($70 fee)<br />\n<br />\n<a href="https://chambermaster.blob.core.windows.net/userfiles/UserFiles/chambers/3286/File/XiXiNowFlyer.pdf">Click Here</a>
LOCATION:10843 Paso Robles Avenue Granada Hills\, CA 91344
UID:e.3286.538
SEQUENCE:3
DTSTAMP:20260422T113410Z
URL:https://members.granadachamber.com/events/details/neighborhood-event-near-you-538
END:VEVENT

END:VCALENDAR
