BEGIN:VCALENDAR
VERSION:2.0
PRODID:-//ChamberMaster//Event Calendar 2.0//EN
METHOD:PUBLISH
X-PUBLISHED-TTL:P3D
REFRESH-INTERVAL:P3D
CALSCALE:GREGORIAN
BEGIN:VEVENT
DTSTART:20260122T170000Z
DTEND:20260122T183000Z
X-MICROSOFT-CDO-ALLDAYEVENT:FALSE
SUMMARY:Multi Chamber Mixer
DESCRIPTION:Multi Chamber Mixer at Pilars Cafe
X-ALT-DESC;FMTTYPE=text/html:Multi Chamber Mixer at Pilars Cafe
LOCATION:Pilars Cafe 19700 Rinaldi St\, Porter Ranch (Shepherd Church Campus)
UID:e.3286.5736
SEQUENCE:3
DTSTAMP:20260423T130325Z
URL:https://members.granadachamber.com/events/details/multi-chamber-mixer-5736
END:VEVENT

END:VCALENDAR
