BEGIN:VCALENDAR
VERSION:2.0
PRODID:-//ChamberMaster//Event Calendar 2.0//EN
METHOD:PUBLISH
X-PUBLISHED-TTL:P3D
REFRESH-INTERVAL:P3D
CALSCALE:GREGORIAN
BEGIN:VEVENT
DTSTART:20181008T183000Z
DTEND:20181008T200000Z
X-MICROSOFT-CDO-ALLDAYEVENT:FALSE
SUMMARY:Multi-Chamber Luncheon - Rescheduled For October 8th
DESCRIPTION:RESCHEDULED FOR OCTOBER 8TH!\n\nJoin us for a Multi-Chamber Networking Luncheon\n\n(Northridge\, Chatsworth & Granada Hills)
X-ALT-DESC;FMTTYPE=text/html:<strong><u><em><span style="color:#FF0000\;">RESCHEDULED FOR OCTOBER 8TH!</span></em></u><br />\nJoin us for a Multi-Chamber Networking Luncheon<br />\n(Northridge\, Chatsworth &amp\; Granada Hills)</strong><br />\n&nbsp\;
LOCATION:Rosie's BBQ & Grillery 8930 Corbin Avenue Northridge\, CA 91324
UID:e.3286.537
SEQUENCE:3
DTSTAMP:20260422T054229Z
URL:https://members.granadachamber.com/events/details/multi-chamber-luncheon-rescheduled-for-october-8th-537
END:VEVENT

END:VCALENDAR
