BEGIN:VCALENDAR
VERSION:2.0
PRODID:-//ChamberMaster//Event Calendar 2.0//EN
METHOD:PUBLISH
X-PUBLISHED-TTL:P3D
REFRESH-INTERVAL:P3D
CALSCALE:GREGORIAN
BEGIN:VEVENT
DTSTART:20181118T210000Z
DTEND:20181119T030000Z
X-MICROSOFT-CDO-ALLDAYEVENT:FALSE
SUMMARY:Motor Gospel Youth Center - Thanksgiving Open House
DESCRIPTION:There is a lot of turmoil in the Southland but in the midst of it\, 2018 has been a great year for MotorGospel Ministries\, the MotorGospel Youth Center and Galeria Bezalel.  We are grateful to God for His many blessings.  We have much for which to be thankful.\n\n \n\nWe would be honored for you to join us
X-ALT-DESC;FMTTYPE=text/html:<span style="color:black\;"><span style="font-family:times new roman\,serif\;"><span style="font-size:12.0pt\;">There is a lot of turmoil in the Southland but in the midst of it\, 2018 has been a great year for MotorGospel Ministries\, the MotorGospel Youth Center and Galeria Bezalel.&nbsp\; We are grateful to God for His many blessings.&nbsp\; We have much for which to be thankful.</span></span></span><br />\n&nbsp\;<br />\n<span style="color:black\;"><span style="font-family:times new roman\,serif\;"><span style="font-size:12.0pt\;">We would be honored for you to join us&nbsp\;</span></span></span>
LOCATION:Thanksgiving Open House at 17735 Chatsworth Street\, Granada Hills\, CA 91344 (enter in the alley).
UID:e.3286.2648
SEQUENCE:3
DTSTAMP:20260422T042447Z
URL:https://members.granadachamber.com/events/details/motor-gospel-youth-center-thanksgiving-open-house-2648
END:VEVENT

END:VCALENDAR
