BEGIN:VCALENDAR
VERSION:2.0
PRODID:-//ChamberMaster//Event Calendar 2.0//EN
METHOD:PUBLISH
X-PUBLISHED-TTL:P3D
REFRESH-INTERVAL:P3D
CALSCALE:GREGORIAN
BEGIN:VEVENT
DTSTART:20190628T003000Z
DTEND:20190628T030000Z
X-MICROSOFT-CDO-ALLDAYEVENT:FALSE
SUMMARY:MEGA MIXER - June 27
DESCRIPTION:9th Annual UCC Mega Mixer\n\nSponsored by:  Anheuser Busch\n\nConnect with hundreds of Business Decision Makers in One Night\n\nThis is a great PR!!!!
X-ALT-DESC;FMTTYPE=text/html:9th Annual UCC Mega Mixer<br />\nSponsored by:&nbsp\; Anheuser Busch<br />\nConnect with hundreds of Business Decision Makers in One Night<br />\nThis is a great PR!!!!
LOCATION:Anheuser Busch 15800 Roscoe Blvd Van Nuys\, CA 91406
UID:e.3286.4250
SEQUENCE:3
DTSTAMP:20260425T131637Z
URL:https://members.granadachamber.com/events/details/mega-mixer-june-27-4250
END:VEVENT

END:VCALENDAR
