BEGIN:VCALENDAR
VERSION:2.0
PRODID:-//ChamberMaster//Event Calendar 2.0//EN
METHOD:PUBLISH
X-PUBLISHED-TTL:P3D
REFRESH-INTERVAL:P3D
CALSCALE:GREGORIAN
BEGIN:VEVENT
DTSTART:20190301T023000Z
DTEND:20190301T043000Z
X-MICROSOFT-CDO-ALLDAYEVENT:FALSE
SUMMARY:Learn How IJASCODE Can Promote Business
DESCRIPTION:IJASCODE SEMINAR\n\nLearn how IJASCODE can help you and your Business be Promoted
X-ALT-DESC;FMTTYPE=text/html:IJASCODE SEMINAR<br />\nLearn how IJASCODE can help you and your Business be Promoted
LOCATION:Los Angeles Fire Department-Station 87 10124 Balboa Blvd Granada Hills\, CA 91344
UID:e.3286.4145
SEQUENCE:3
DTSTAMP:20260422T002441Z
URL:https://members.granadachamber.com/events/details/learn-how-ijascode-can-promote-business-4145
END:VEVENT

END:VCALENDAR
