BEGIN:VCALENDAR
VERSION:2.0
PRODID:-//ChamberMaster//Event Calendar 2.0//EN
METHOD:PUBLISH
X-PUBLISHED-TTL:P3D
REFRESH-INTERVAL:P3D
CALSCALE:GREGORIAN
BEGIN:VEVENT
DTSTART:20181026T003000Z
DTEND:20181026T020000Z
X-MICROSOFT-CDO-ALLDAYEVENT:FALSE
SUMMARY:Invitation - Southern Californi Orthopedic Institute
DESCRIPTION:Southern California Orthopedic Institute\n\nInvite you to a Free Multi-Chamber Networking \n\nNight Event
X-ALT-DESC;FMTTYPE=text/html:Southern California Orthopedic Institute<br />\nInvite you to a Free Multi-Chamber Networking&nbsp\;<br />\nNight Event
LOCATION:19950 Rinaldi Street\, Suite 100 Porter Ranch\, CA 91326
UID:e.3286.1840
SEQUENCE:3
DTSTAMP:20260422T074503Z
URL:https://members.granadachamber.com/events/details/invitation-southern-californi-orthopedic-institute-1840
END:VEVENT

END:VCALENDAR
