BEGIN:VCALENDAR
VERSION:2.0
PRODID:-//ChamberMaster//Event Calendar 2.0//EN
METHOD:PUBLISH
X-PUBLISHED-TTL:P3D
REFRESH-INTERVAL:P3D
CALSCALE:GREGORIAN
BEGIN:VEVENT
DTSTART:20180901T123000Z
DTEND:20181002T013000Z
X-MICROSOFT-CDO-ALLDAYEVENT:FALSE
SUMMARY:INTRODUCTION TO THE PILATES REFORMER
DESCRIPTION:WELCOME TO PILATES ON DEMAND LA!!\n\nPilates on Demand LA is the newest\, hottest\, modern boutique pilates studio nestled in the San Fernando Valley recently opened in the Granada Hills neighborhood. Welcoming beginning and advanced students on the pilates reformer\,  with guaranteed results in body toning. She also offers Ballet Barre classes to lengthen the body to make it longer and leaner. She has included  'The Buddy System' where clients can work out together with friends and family members of their choice. Everyone need apply. Claudia has  more than 35 years of dance instruction and certified in over 30 years  in numerous forms of fitness\, specializing in the anatomy and sculpting of the human body.\n\nSEPTEMBER SPECIAL!!\n\nFIRST CLASS FREE!!\n\n5 group classes for $69                            (regular price $129)\n\n1- Private and 4 group classes for $99     (regular price $154)\n\nTHE BUDDY SYSTEM\n\n(THE STUDIO IS OPENED FOR JUST YOU AND YOUR FRIENDS/FAMILY !!)\n\n$129 monthly- twice a week (Minimum of 3 people)\n\nIf you bring 3 friends - Your month is FREE !!\n\nPILATES ON DEMAND LA\n\n17639 Chatsworth Street\n\nGranada Hills\, CA 91369\n\n(INSIDE Muscle by Russell\n\n\n\nFor info call - CLAUDIA - 818-488-9088
X-ALT-DESC;FMTTYPE=text/html:<p style="text-align:center"><strong>WELCOME TO PILATES ON DEMAND LA!!</strong></p>\n\n<p><strong>Pilates on Demand LA </strong>is the newest\, hottest\, modern boutique pilates studio nestled in the San Fernando Valley recently opened in the Granada Hills neighborhood. Welcoming beginning and advanced students on the pilates reformer\,&nbsp\; with guaranteed results in body toning. She also offers Ballet Barre classes to lengthen the body to make it longer and leaner. She has included&nbsp\; &lsquo\;The Buddy System&rsquo\; where clients can work out together with friends and family members of their choice. Everyone need apply. Claudia has&nbsp\; more than 35 years of dance instruction and certified in over 30 years&nbsp\; in numerous forms of fitness\, specializing in the anatomy and sculpting of the human body.</p>\n\n<p style="text-align:center"><strong>SEPTEMBER SPECIAL!!</strong></p>\n\n<p style="text-align:center"><span style="color:#FF0000">FIRST CLASS FREE!!</span></p>\n\n<p>5 group classes for $69&nbsp\; &nbsp\; &nbsp\; &nbsp\; &nbsp\; &nbsp\; &nbsp\; &nbsp\; &nbsp\; &nbsp\; &nbsp\; &nbsp\; &nbsp\; &nbsp\; (regular price $129)</p>\n\n<p>1- Private and 4 group classes for $99&nbsp\;&nbsp\;&nbsp\;&nbsp\; (regular price $154)</p>\n\n<p style="text-align:center"><strong><span style="color:#FF0000">THE BUDDY SYSTEM<br />\n(THE STUDIO IS OPENED FOR JUST YOU AND YOUR FRIENDS/FAMILY !!)</span></strong></p>\n\n<p style="text-align:center"><strong>$129 monthly- twice a week (Minimum of 3 people)<br />\nIf you bring 3 friends - Your month is FREE !!</strong></p>\n\n<p><strong>PILATES ON DEMAND LA<br />\n17639 Chatsworth Street<br />\nGranada Hills\, CA 91369</strong></p>\n\n<p>(INSIDE Muscle by Russell<br />\n<br />\n<span style="background-color:rgb(255\, 255\, 255)\; color:rgb(51\, 51\, 51)\; font-family:sans-serif\,arial\,verdana\,trebuchet ms\; font-size:13px">For info call -<span style="font-size:14px">&nbsp\;</span></span><span style="font-size:14px"><strong>CLAUDIA&nbsp\;</strong><span style="background-color:rgb(255\, 255\, 255)\; color:rgb(51\, 51\, 51)\; font-family:sans-serif\,arial\,verdana\,trebuchet ms">- 818-488-9088</span></span></p>\n
LOCATION:
UID:e.3286.514
SEQUENCE:3
DTSTAMP:20260422T073812Z
URL:https://members.granadachamber.com/events/details/introduction-to-the-pilates-reformer-07-27-2018-514
END:VEVENT

END:VCALENDAR
