BEGIN:VCALENDAR
VERSION:2.0
PRODID:-//ChamberMaster//Event Calendar 2.0//EN
METHOD:PUBLISH
X-PUBLISHED-TTL:P3D
REFRESH-INTERVAL:P3D
CALSCALE:GREGORIAN
BEGIN:VEVENT
DTSTART:20181214T023000Z
DTEND:20181214T043000Z
X-MICROSOFT-CDO-ALLDAYEVENT:FALSE
SUMMARY:IJASCODE KEY Seminar - Wireless Marketing
DESCRIPTION:GRAND OPENING\n\nIJASCODE KEY\n\nCutting edge technology that allows prmooting any kind of business\, ideas and any websites\, wireless and efforthess!
X-ALT-DESC;FMTTYPE=text/html:<strong>GRAND OPENING<br />\nIJASCODE KEY<br />\nCutting edge technology that allows prmooting any kind of business\, ideas and any websites\, wireless and efforthess!</strong>
LOCATION:New Life Church of Nazarene 10650 Reseda Blvd Porter Ranch\, CA 91326
UID:e.3286.2653
SEQUENCE:3
DTSTAMP:20260422T022758Z
URL:https://members.granadachamber.com/events/details/ijascode-key-seminar-wireless-marketing-2653
END:VEVENT

END:VCALENDAR
