BEGIN:VCALENDAR
VERSION:2.0
PRODID:-//ChamberMaster//Event Calendar 2.0//EN
METHOD:PUBLISH
X-PUBLISHED-TTL:P3D
REFRESH-INTERVAL:P3D
CALSCALE:GREGORIAN
BEGIN:VEVENT
DTSTART:20180920T020000Z
DTEND:20180920T040000Z
X-MICROSOFT-CDO-ALLDAYEVENT:FALSE
SUMMARY:Granada Hills South Neighborhood Council Meeting
DESCRIPTION:Granada Hills South Neighborhood Council Meeting
X-ALT-DESC;FMTTYPE=text/html:Granada Hills South Neighborhood Council Meeting
LOCATION:Granada Hills Charter High Library 10535 Zelzah Avenue Granada Hills\, CA 91344
UID:e.3286.1588
SEQUENCE:3
DTSTAMP:20260422T074502Z
URL:https://members.granadachamber.com/events/details/granada-hills-south-neighborhood-council-meeting-1588
END:VEVENT

END:VCALENDAR
