BEGIN:VCALENDAR
VERSION:2.0
PRODID:-//ChamberMaster//Event Calendar 2.0//EN
METHOD:PUBLISH
X-PUBLISHED-TTL:P3D
REFRESH-INTERVAL:P3D
CALSCALE:GREGORIAN
BEGIN:VEVENT
DTSTART:20251207T170000Z
DTEND:20251208T010000Z
X-MICROSOFT-CDO-ALLDAYEVENT:FALSE
SUMMARY:Granada Hills Holiday Parade Food Truck Registration
DESCRIPTION:42nd Annual Granada Hills Holiday Parade - Food Truck Registration\n\nHoliday Parade gets 7\,500 - 10\,000 visitors ontop of 2\,000 participants. \n\nFirst time introducing Food vendors\, has been the biggest ask from Viewers. \n\nNO REFUNDS
X-ALT-DESC;FMTTYPE=text/html:42nd Annual Granada Hills Holiday Parade - Food Truck Registration<br />\nHoliday Parade gets 7\,500 - 10\,000 visitors ontop of 2\,000 participants.&nbsp\;<br />\nFirst time introducing Food vendors\, has been the biggest ask from Viewers.&nbsp\;<br />\n<span style="font-size:22px\;">NO REFUNDS</span>
LOCATION:Chatsworth St\, Between Zelzah Ave & Balboa Blvd.
UID:e.3286.5728
SEQUENCE:3
DTSTAMP:20260423T145814Z
URL:https://members.granadachamber.com/events/details/granada-hills-holiday-parade-food-truck-registration-5728
END:VEVENT

END:VCALENDAR
