BEGIN:VCALENDAR
VERSION:2.0
PRODID:-//ChamberMaster//Event Calendar 2.0//EN
METHOD:PUBLISH
X-PUBLISHED-TTL:P3D
REFRESH-INTERVAL:P3D
CALSCALE:GREGORIAN
BEGIN:VEVENT
DTSTART;VALUE=DATE:20251207
DTEND;VALUE=DATE:20260101
TRANSP:TRANSPARENT
X-MICROSOFT-CDO-ALLDAYEVENT:TRUE
SUMMARY:Granada Hills Holiday Light Decorating Contest
DESCRIPTION:IT'S TIME TO LIGHT UP GRANADA HILLS!   \n\n\n\nThe holidays are here   and we're ready to make Granada Hills shine brighter than ever!  \n\nJoin us for the Granada Hills Holiday Light Decorating Contest 2025\, hosted by the Granada Hills Chamber of Commerce in partnership with Councilman John Lee\, our Honorary Judge for the final round!  \n\n\n\nThis is more than a contest   it's a way to bring our community together and celebrate the joy\, creativity\, and sparkle of the holiday season!    \n\nOpen to all Granada Hills residents\n\n\n\nYour address will be shared on our official Holiday Lights Map so the community can visit and enjoy your festive display!\n\n  IMPORTANT DATES:\n\n\n\nJudging Drive: Dec. 7th   18th\n\n\n\n  Winners Announced: Dec. 19th at the Granada Hills Farmers Market\n\n\n\n\n\n  CATEGORIES:\n\n  Best Overall Holiday Display\n\n  Most Creative Theme\n\n  Best Use of Lights/decorations\n\n   Most Festive Street\n\n\n\n  RULES:\n\n\n\nLights & decorations must be visible from the street  \n\n\n\nKeep lights on from 6 PM   10 PM during judging nights\n\n\n\nAddresses of participants will be publicly posted for the community to enjoy\n\n\n\nAll displays must be complete by Dec. 7th\n\n\n\nRespect your neighbors   no loud music past 10 PM\n\n\n\n\n\n  Let's light up Granada Hills and celebrate the holidays together!\n\nTag your friends\, neighbors\, and businesses   and let's make this year's contest the brightest one yet!
X-ALT-DESC;FMTTYPE=text/html:<span style="box-sizing: border-box\; color: rgb(44\, 54\, 58)\; font-size: 14px\; font-family: Roboto\, sans-serif\;">&#127876\;&#10024\; IT&#39\;S TIME TO LIGHT UP GRANADA HILLS! &#10024\;&#127876\;</span><br style="box-sizing: border-box\; color: rgb(44\, 54\, 58)\; font-size: 14px\; font-family: Roboto\, sans-serif\;" />\n<br style="box-sizing: border-box\; color: rgb(44\, 54\, 58)\; font-size: 14px\; font-family: Roboto\, sans-serif\;" />\n<span style="box-sizing: border-box\; color: rgb(44\, 54\, 58)\; font-size: 14px\; font-family: Roboto\, sans-serif\;">The holidays are here &mdash\; and we&#39\;re ready to make Granada Hills shine brighter than ever! &#127775\;</span><br style="box-sizing: border-box\; color: rgb(44\, 54\, 58)\; font-size: 14px\; font-family: Roboto\, sans-serif\;" />\n<span style="box-sizing: border-box\; color: rgb(44\, 54\, 58)\; font-size: 14px\; font-family: Roboto\, sans-serif\;">Join us for the Granada Hills Holiday Light Decorating Contest 2025\, hosted by the Granada Hills Chamber of Commerce in partnership with Councilman John Lee\, our Honorary Judge for the final round! &#127942\;</span><br style="box-sizing: border-box\; color: rgb(44\, 54\, 58)\; font-size: 14px\; font-family: Roboto\, sans-serif\;" />\n<br style="box-sizing: border-box\; color: rgb(44\, 54\, 58)\; font-size: 14px\; font-family: Roboto\, sans-serif\;" />\n<span style="box-sizing: border-box\; color: rgb(44\, 54\, 58)\; font-size: 14px\; font-family: Roboto\, sans-serif\;">This is more than a contest &mdash\; it&#39\;s a way to bring our community together and celebrate the joy\, creativity\, and sparkle of the holiday season! &#10084\;&#65039\;&#127926\;</span><br style="box-sizing: border-box\; color: rgb(44\, 54\, 58)\; font-size: 14px\; font-family: Roboto\, sans-serif\;" />\n<span style="box-sizing: border-box\; color: rgb(44\, 54\, 58)\; font-size: 14px\; font-family: Roboto\, sans-serif\;">Open to all Granada Hills residents</span><br style="box-sizing: border-box\; color: rgb(44\, 54\, 58)\; font-size: 14px\; font-family: Roboto\, sans-serif\;" />\n<br style="box-sizing: border-box\; color: rgb(44\, 54\, 58)\; font-size: 14px\; font-family: Roboto\, sans-serif\;" />\n<span style="box-sizing: border-box\; color: rgb(44\, 54\, 58)\; font-size: 14px\; font-family: Roboto\, sans-serif\;">Your address will be shared on our official Holiday Lights Map so the community can visit and enjoy your festive display!<br />\n&#128197\; IMPORTANT DATES:</span><br style="box-sizing: border-box\; color: rgb(44\, 54\, 58)\; font-size: 14px\; font-family: Roboto\, sans-serif\;" />\n<br style="box-sizing: border-box\; color: rgb(44\, 54\, 58)\; font-size: 14px\; font-family: Roboto\, sans-serif\;" />\n<span style="box-sizing: border-box\; color: rgb(44\, 54\, 58)\; font-size: 14px\; font-family: Roboto\, sans-serif\;">Judging Drive: Dec. 7th &ndash\; 18th</span><br style="box-sizing: border-box\; color: rgb(44\, 54\, 58)\; font-size: 14px\; font-family: Roboto\, sans-serif\;" />\n<br style="box-sizing: border-box\; color: rgb(44\, 54\, 58)\; font-size: 14px\; font-family: Roboto\, sans-serif\;" />\n<span style="box-sizing: border-box\; color: rgb(44\, 54\, 58)\; font-size: 14px\; font-family: Roboto\, sans-serif\;">&#127942\; Winners Announced: Dec. 19th at the Granada Hills Farmers Market</span><br style="box-sizing: border-box\; color: rgb(44\, 54\, 58)\; font-size: 14px\; font-family: Roboto\, sans-serif\;" />\n<br style="box-sizing: border-box\; color: rgb(44\, 54\, 58)\; font-size: 14px\; font-family: Roboto\, sans-serif\;" />\n<br style="box-sizing: border-box\; color: rgb(44\, 54\, 58)\; font-size: 14px\; font-family: Roboto\, sans-serif\;" />\n<span style="box-sizing: border-box\; color: rgb(44\, 54\, 58)\; font-size: 14px\; font-family: Roboto\, sans-serif\;">&#127969\; CATEGORIES:</span><br style="box-sizing: border-box\; color: rgb(44\, 54\, 58)\; font-size: 14px\; font-family: Roboto\, sans-serif\;" />\n<span style="box-sizing: border-box\; color: rgb(44\, 54\, 58)\; font-size: 14px\; font-family: Roboto\, sans-serif\;">&#10024\; Best Overall Holiday Display</span><br style="box-sizing: border-box\; color: rgb(44\, 54\, 58)\; font-size: 14px\; font-family: Roboto\, sans-serif\;" />\n<span style="box-sizing: border-box\; color: rgb(44\, 54\, 58)\; font-size: 14px\; font-family: Roboto\, sans-serif\;">&#127873\; Most Creative Theme</span><br style="box-sizing: border-box\; color: rgb(44\, 54\, 58)\; font-size: 14px\; font-family: Roboto\, sans-serif\;" />\n<span style="box-sizing: border-box\; color: rgb(44\, 54\, 58)\; font-size: 14px\; font-family: Roboto\, sans-serif\;">&#127794\; Best Use of Lights/decorations</span><br style="box-sizing: border-box\; color: rgb(44\, 54\, 58)\; font-size: 14px\; font-family: Roboto\, sans-serif\;" />\n<span style="box-sizing: border-box\; color: rgb(44\, 54\, 58)\; font-size: 14px\; font-family: Roboto\, sans-serif\;">&#10052\;&#65039\; Most Festive Street</span><br style="box-sizing: border-box\; color: rgb(44\, 54\, 58)\; font-size: 14px\; font-family: Roboto\, sans-serif\;" />\n<br style="box-sizing: border-box\; color: rgb(44\, 54\, 58)\; font-size: 14px\; font-family: Roboto\, sans-serif\;" />\n<span style="box-sizing: border-box\; color: rgb(44\, 54\, 58)\; font-size: 14px\; font-family: Roboto\, sans-serif\;">&#128220\; RULES:</span><br style="box-sizing: border-box\; color: rgb(44\, 54\, 58)\; font-size: 14px\; font-family: Roboto\, sans-serif\;" />\n<br style="box-sizing: border-box\; color: rgb(44\, 54\, 58)\; font-size: 14px\; font-family: Roboto\, sans-serif\;" />\n<span style="box-sizing: border-box\; color: rgb(44\, 54\, 58)\; font-size: 14px\; font-family: Roboto\, sans-serif\;">Lights &amp\; decorations must be visible from the street &#128663\;</span><br style="box-sizing: border-box\; color: rgb(44\, 54\, 58)\; font-size: 14px\; font-family: Roboto\, sans-serif\;" />\n<br style="box-sizing: border-box\; color: rgb(44\, 54\, 58)\; font-size: 14px\; font-family: Roboto\, sans-serif\;" />\n<span style="box-sizing: border-box\; color: rgb(44\, 54\, 58)\; font-size: 14px\; font-family: Roboto\, sans-serif\;">Keep lights on from 6 PM &ndash\; 10 PM during judging nights</span><br style="box-sizing: border-box\; color: rgb(44\, 54\, 58)\; font-size: 14px\; font-family: Roboto\, sans-serif\;" />\n<br style="box-sizing: border-box\; color: rgb(44\, 54\, 58)\; font-size: 14px\; font-family: Roboto\, sans-serif\;" />\n<span style="box-sizing: border-box\; color: rgb(44\, 54\, 58)\; font-size: 14px\; font-family: Roboto\, sans-serif\;">Addresses of participants will be publicly posted for the community to enjoy</span><br style="box-sizing: border-box\; color: rgb(44\, 54\, 58)\; font-size: 14px\; font-family: Roboto\, sans-serif\;" />\n<br style="box-sizing: border-box\; color: rgb(44\, 54\, 58)\; font-size: 14px\; font-family: Roboto\, sans-serif\;" />\n<span style="box-sizing: border-box\; color: rgb(44\, 54\, 58)\; font-size: 14px\; font-family: Roboto\, sans-serif\;">All displays must be complete by Dec. 7th</span><br style="box-sizing: border-box\; color: rgb(44\, 54\, 58)\; font-size: 14px\; font-family: Roboto\, sans-serif\;" />\n<br style="box-sizing: border-box\; color: rgb(44\, 54\, 58)\; font-size: 14px\; font-family: Roboto\, sans-serif\;" />\n<span style="box-sizing: border-box\; color: rgb(44\, 54\, 58)\; font-size: 14px\; font-family: Roboto\, sans-serif\;">Respect your neighbors &mdash\; no loud music past 10 PM</span><br style="box-sizing: border-box\; color: rgb(44\, 54\, 58)\; font-size: 14px\; font-family: Roboto\, sans-serif\;" />\n<br style="box-sizing: border-box\; color: rgb(44\, 54\, 58)\; font-size: 14px\; font-family: Roboto\, sans-serif\;" />\n<br style="box-sizing: border-box\; color: rgb(44\, 54\, 58)\; font-size: 14px\; font-family: Roboto\, sans-serif\;" />\n<span style="box-sizing: border-box\; color: rgb(44\, 54\, 58)\; font-size: 14px\; font-family: Roboto\, sans-serif\;">&#128161\; Let&#39\;s light up Granada Hills and celebrate the holidays together!</span><br style="box-sizing: border-box\; color: rgb(44\, 54\, 58)\; font-size: 14px\; font-family: Roboto\, sans-serif\;" />\n<span style="box-sizing: border-box\; color: rgb(44\, 54\, 58)\; font-size: 14px\; font-family: Roboto\, sans-serif\;">Tag your friends\, neighbors\, and businesses &mdash\; and let&#39\;s make this year&#39\;s contest the brightest one yet! &#127775\;</span>
LOCATION:Open to all Granada Hills residents Your address will be shared on our official Holiday Lights Map so the community can visit and enjoy your festive display!
UID:e.3286.5729
SEQUENCE:3
DTSTAMP:20260423T145357Z
URL:https://members.granadachamber.com/events/details/granada-hills-holiday-light-decorating-contest-5729
END:VEVENT

END:VCALENDAR
