BEGIN:VCALENDAR
VERSION:2.0
PRODID:-//ChamberMaster//Event Calendar 2.0//EN
METHOD:PUBLISH
X-PUBLISHED-TTL:P3D
REFRESH-INTERVAL:P3D
CALSCALE:GREGORIAN
BEGIN:VEVENT
DTSTART:20251129T020000Z
DTEND:20251129T060000Z
X-MICROSOFT-CDO-ALLDAYEVENT:FALSE
SUMMARY:Granada Hills Farmers Market Vendor Registration Nov. 28
DESCRIPTION:No Market on Black Friday\n\nVendors who purchased space will be refunded on Monday November 10th.
X-ALT-DESC;FMTTYPE=text/html:No Market on Black Friday<br />\nVendors who purchased space will be refunded on Monday November 10th.&nbsp\;
LOCATION:No Market on Black Friday Vendors who purchased space will be refunded on Monday November 10th.
UID:e.3286.5724
SEQUENCE:3
DTSTAMP:20260423T163817Z
URL:https://members.granadachamber.com/events/details/granada-hills-farmers-market-vendor-registration-nov-28-5724
END:VEVENT

END:VCALENDAR
