BEGIN:VCALENDAR
VERSION:2.0
PRODID:-//ChamberMaster//Event Calendar 2.0//EN
METHOD:PUBLISH
X-PUBLISHED-TTL:P3D
REFRESH-INTERVAL:P3D
CALSCALE:GREGORIAN
BEGIN:VEVENT
DTSTART:20251122T020000Z
DTEND:20251122T060000Z
X-MICROSOFT-CDO-ALLDAYEVENT:FALSE
SUMMARY:Granada Hills Farmers Market Vendor Registration Nov. 21
DESCRIPTION:Registration Closed. Vendors from Nov. 14 Registration will fill in here.
X-ALT-DESC;FMTTYPE=text/html:<strong><span style="font-size:18px\;">Registration Closed. Vendors from Nov. 14 Registration will fill in here.&nbsp\;</span></strong>
LOCATION:On White Oak Ave and Chatsworth St. Farmers Market will be on White Oak Ave\, through streets are Chatsworth St\, and Los Alimos St.
UID:e.3286.5723
SEQUENCE:3
DTSTAMP:20260423T182019Z
URL:https://members.granadachamber.com/events/details/granada-hills-farmers-market-vendor-registration-nov-21-5723
END:VEVENT

END:VCALENDAR
