BEGIN:VCALENDAR
VERSION:2.0
PRODID:-//ChamberMaster//Event Calendar 2.0//EN
METHOD:PUBLISH
X-PUBLISHED-TTL:P3D
REFRESH-INTERVAL:P3D
CALSCALE:GREGORIAN
BEGIN:VEVENT
DTSTART:20260523T010000Z
DTEND:20260523T050000Z
X-MICROSOFT-CDO-ALLDAYEVENT:FALSE
SUMMARY:Granada Hills Farmers Market Vendor Registration May 22nd
DESCRIPTION:Granada Hills Farmers Market Vendor Registration\n\nFOOD VENDORS:\n\nBefore Registration\, you must have a TFF for our market 'Granada Hills Certified Market'.
X-ALT-DESC;FMTTYPE=text/html:Granada Hills Farmers Market Vendor Registration<br />\n<span style="font-size:16px\;">FOOD VENDORS:<br />\nBefore Registration\, you must have a TFF for our market &#39\;Granada Hills Certified Market&#39\;.&nbsp\;</span><br />\n&nbsp\;
LOCATION:On White Oak Ave and Chatsworth St. Farmers Market will be on White Oak Ave\, through streets are Chatsworth St\, and Los Alimos St.
UID:e.3286.5752
SEQUENCE:3
DTSTAMP:20260423T185716Z
URL:https://members.granadachamber.com/events/details/granada-hills-farmers-market-vendor-registration-may-22nd-5752
END:VEVENT

END:VCALENDAR
