BEGIN:VCALENDAR
VERSION:2.0
PRODID:-//ChamberMaster//Event Calendar 2.0//EN
METHOD:PUBLISH
X-PUBLISHED-TTL:P3D
REFRESH-INTERVAL:P3D
CALSCALE:GREGORIAN
BEGIN:VEVENT
DTSTART;VALUE=DATE:20181115
DTEND;VALUE=DATE:20181116
TRANSP:TRANSPARENT
X-MICROSOFT-CDO-ALLDAYEVENT:TRUE
SUMMARY:Goldman Sachs 10\,000 Small Business Program
DESCRIPTION:Goldman Sachs 10\,000 Small Businesses program is accepting applications for its spring cohorts at Los Angeles City College and Long Beach City College (flyers attached). Please feel free to forward to any business owners you think may be interested in this very highly-rated\, intensive management development program.  Thanks so much.\n\nRegards\,\n\nSonya\n\n \n\n[https://docs.google.com/uc?export=download&id=1ExUqWDHqFUy1wtm7pnnwUYBisp66_DTr&revid=0B9_2usKWTwXceUZjRkQzVkgvQ2pHeGZOL3hHRUk3UFE2dDBRPQ]\n\n \n\n \n\nSonya Kay Blake\n\nDirector of Community Business\n\nMayor's Office of Economic Development\n\n(213) 978-2371
X-ALT-DESC;FMTTYPE=text/html:Goldman Sachs 10\,000 Small Businesses program is accepting applications for its spring cohorts at Los Angeles City College and Long Beach City College (flyers attached). Please feel free to forward to any business owners you think may be interested in this very highly-rated\, intensive management development program.&nbsp\; Thanks so much.<br />\nRegards\,<br />\nSonya<br />\n&nbsp\;<br />\n[https://docs.google.com/uc?export=download&amp\;id=1ExUqWDHqFUy1wtm7pnnwUYBisp66_DTr&amp\;revid=0B9_2usKWTwXceUZjRkQzVkgvQ2pHeGZOL3hHRUk3UFE2dDBRPQ]<br />\n&nbsp\;<br />\n&nbsp\;<br />\nSonya Kay Blake<br />\nDirector of Community Business<br />\nMayor&#39\;s Office of Economic Development<br />\n(213) 978-2371
LOCATION:Los Angeles City College Visit our website: www.SoCal10KSB.com
UID:e.3286.1834
SEQUENCE:3
DTSTAMP:20260422T041014Z
URL:https://members.granadachamber.com/events/details/goldman-sachs-10-000-small-business-program-1834
END:VEVENT

END:VCALENDAR
