BEGIN:VCALENDAR
VERSION:2.0
PRODID:-//ChamberMaster//Event Calendar 2.0//EN
METHOD:PUBLISH
X-PUBLISHED-TTL:P3D
REFRESH-INTERVAL:P3D
CALSCALE:GREGORIAN
BEGIN:VEVENT
DTSTART:20181006T170000Z
DTEND:20181007T000000Z
X-MICROSOFT-CDO-ALLDAYEVENT:FALSE
SUMMARY:GHCC Street Faire
DESCRIPTION:Granada Hills Chamber of Commerce\n\n2018 Street Faire\n\nEARLY BIRD REGISTRATION WILL EXPIRE SOON!
X-ALT-DESC;FMTTYPE=text/html:Granada Hills Chamber of Commerce<br />\n2018 Street Faire<br />\n<span style="color:#FF0000\;"><em><strong>EARLY BIRD REGISTRATION WILL EXPIRE SOON!</strong></em></span>
LOCATION:In Granada Hills on Chatsworth Street Closure from Zelzah to Encino Street Will be Closed from 5am to 7pm
UID:e.3286.141
SEQUENCE:3
DTSTAMP:20260422T055048Z
URL:https://members.granadachamber.com/events/details/ghcc-street-faire-141
END:VEVENT

END:VCALENDAR
