BEGIN:VCALENDAR
VERSION:2.0
PRODID:-//ChamberMaster//Event Calendar 2.0//EN
METHOD:PUBLISH
X-PUBLISHED-TTL:P3D
REFRESH-INTERVAL:P3D
CALSCALE:GREGORIAN
BEGIN:VEVENT
DTSTART:20180816T020000Z
DTEND:20180816T040000Z
X-MICROSOFT-CDO-ALLDAYEVENT:FALSE
SUMMARY:GH South Neighborhood Council Meeting
DESCRIPTION:City of Los Angeles\n\nGranada Hills South Neighborhood Council Meeting\n\nAgenda Attached
X-ALT-DESC;FMTTYPE=text/html:City of Los Angeles<br />\nGranada Hills South Neighborhood Council Meeting<br />\nAgenda Attached
LOCATION:Granada Hills Charter High School Library 10535 Zelzah Avenue Granada Hills CA 91344
UID:e.3286.948
SEQUENCE:3
DTSTAMP:20260422T094002Z
URL:https://members.granadachamber.com/events/details/gh-south-neighborhood-council-meeting-948
END:VEVENT

END:VCALENDAR
